﻿BEGIN:VCALENDAR
VERSION:2.0
PRODID:-//OBGAM - ECPv6.14.1//NONSGML v1.0//EN
CALSCALE:GREGORIAN
METHOD:PUBLISH
X-ORIGINAL-URL:https://www.obgam.at
X-WR-CALDESC:Veranstaltungen für OBGAM
REFRESH-INTERVAL;VALUE=DURATION:PT1H
X-Robots-Tag:noindex
X-PUBLISHED-TTL:PT1H
BEGIN:VTIMEZONE
TZID:Europe/Vienna
BEGIN:DAYLIGHT
TZOFFSETFROM:+0100
TZOFFSETTO:+0200
TZNAME:CEST
DTSTART:20200329T010000
END:DAYLIGHT
BEGIN:STANDARD
TZOFFSETFROM:+0200
TZOFFSETTO:+0100
TZNAME:CET
DTSTART:20201025T010000
END:STANDARD
END:VTIMEZONE
BEGIN:VEVENT
DTSTART;TZID=Europe/Vienna:20201121T090000
DTEND;TZID=Europe/Vienna:20201121T123000
DTSTAMP:20260422T231807
CREATED:20200223T195125Z
LAST-MODIFIED:20201115T163951Z
UID:1149-1605949200-1605961800@www.obgam.at
SUMMARY:!! ABGESAGT !! TRAIN THE TRAINER: Hypertonie & Patienten-Schulung
DESCRIPTION:In diesem interaktiven Workshop erhalten Sie aktuelle Informationen zu/r\n• Prävalenz und Diagnose der Hypertonie\n• Patienten-Motivation\, Ernährung und Bewegung bei Hypertonie\n• Vermittlung der richtigen Blutdruckmessung\n•  Medikamentösen Therapie \nZum Programm
URL:https://www.obgam.at/veranstaltung/train-the-trainer-hypertonie-patienten-schulung/
LOCATION:Findet ONLINE statt\, Findet ONLINE statt\, Österreich
END:VEVENT
BEGIN:VEVENT
DTSTART;TZID=Europe/Vienna:20201121T090000
DTEND;TZID=Europe/Vienna:20201121T123000
DTSTAMP:20260422T231807
CREATED:20200702T064842Z
LAST-MODIFIED:20201115T164312Z
UID:1379-1605949200-1605961800@www.obgam.at
SUMMARY:BdA–Web –Tagung
DESCRIPTION:Referenten: \nGeorg Grundei diplômé\, vom Österreichischen Gewerkschaftsbund\ngibt Antworten zu aktuellen Fragen zum Arbeitsrecht \nDDr. Georg Greiner\, PhD\nIhr Labor – Ordinationsgemeinschaft f. Labordiagnostik \nUniv.-Prof. Dr. Norbert Nowotny\nInstitut für Virologie\, Veterinärmedizinische Universität Wien Nutzen Sie die Gelegenheit den Experten persönlich zu fragen \n\nZum Programm
URL:https://www.obgam.at/veranstaltung/eisenmangel-postpartum/
END:VEVENT
BEGIN:VEVENT
DTSTART;TZID=Europe/Vienna:20201121T100000
DTEND;TZID=Europe/Vienna:20201122T172000
DTSTAMP:20260422T231807
CREATED:20201121T191030Z
LAST-MODIFIED:20201121T191058Z
UID:1519-1605952800-1606065600@www.obgam.at
SUMMARY:Virtuellen Patiententage
DESCRIPTION:Am 21. und 22. November 2020 informieren ExpertInnen aus Deutschland\, Österreich und der Schweiz im Rahmen der virtuellen Patiententage über die neuesten Erkenntnisse zu Corona und beantworten Patienten-Fragen. \nDas Wichtigste zum aktuellen Wissensstand zu Coronavirus & Herz-Kreislauf-Erkrankung\, COPD oder Krebs\, Möglichkeiten der Telemedizin\, Behandlung einer Corona-Infektion\, Corona-PatientInnen auf der Intensivstation\, Umgang mit Angst und Einsamkeit und vielen weiteren Themen. \nDie Teilnahme ist kostenlos und ohne Anmeldung möglich: https://selpers.com/live/corona-patiententage
URL:https://www.obgam.at/veranstaltung/virtuellen-patiententage/
END:VEVENT
END:VCALENDAR