﻿BEGIN:VCALENDAR
VERSION:2.0
PRODID:-//OBGAM - ECPv6.14.1//NONSGML v1.0//EN
CALSCALE:GREGORIAN
METHOD:PUBLISH
X-WR-CALNAME:OBGAM
X-ORIGINAL-URL:https://www.obgam.at
X-WR-CALDESC:Veranstaltungen für OBGAM
REFRESH-INTERVAL;VALUE=DURATION:PT1H
X-Robots-Tag:noindex
X-PUBLISHED-TTL:PT1H
BEGIN:VTIMEZONE
TZID:Europe/Vienna
BEGIN:DAYLIGHT
TZOFFSETFROM:+0100
TZOFFSETTO:+0200
TZNAME:CEST
DTSTART:20210328T010000
END:DAYLIGHT
BEGIN:STANDARD
TZOFFSETFROM:+0200
TZOFFSETTO:+0100
TZNAME:CET
DTSTART:20211031T010000
END:STANDARD
END:VTIMEZONE
BEGIN:VEVENT
DTSTART;TZID=Europe/Vienna:20211001T090000
DTEND;TZID=Europe/Vienna:20211001T173000
DTSTAMP:20260423T180951
CREATED:20210825T103318Z
LAST-MODIFIED:20210825T103738Z
UID:2395-1633078800-1633109400@www.obgam.at
SUMMARY:3. Autoimmun-Symposium
DESCRIPTION:DATUM: Freitag\, 1. Oktober 2021\nZEIT: 9:00 – 17.30 Uhr\nORT: Online \nKOSTEN: 90\,- / 60\,- Euro\nANMELDUNG: https://www.reglist24.com/reglist_anmeldung.php?list_id=5055968 \nDFP-Punkte: 9 Punkte werden beantragt. \nMehr Details
URL:https://www.obgam.at/veranstaltung/3-autoimmun-symposium/
END:VEVENT
END:VCALENDAR