﻿BEGIN:VCALENDAR
VERSION:2.0
PRODID:-//OBGAM - ECPv6.14.1//NONSGML v1.0//EN
CALSCALE:GREGORIAN
METHOD:PUBLISH
X-ORIGINAL-URL:https://www.obgam.at
X-WR-CALDESC:Veranstaltungen für OBGAM
REFRESH-INTERVAL;VALUE=DURATION:PT1H
X-Robots-Tag:noindex
X-PUBLISHED-TTL:PT1H
BEGIN:VTIMEZONE
TZID:Europe/Vienna
BEGIN:DAYLIGHT
TZOFFSETFROM:+0100
TZOFFSETTO:+0200
TZNAME:CEST
DTSTART:20220327T010000
END:DAYLIGHT
BEGIN:STANDARD
TZOFFSETFROM:+0200
TZOFFSETTO:+0100
TZNAME:CET
DTSTART:20221030T010000
END:STANDARD
END:VTIMEZONE
BEGIN:VEVENT
DTSTART;TZID=Europe/Vienna:20220311T180000
DTEND;TZID=Europe/Vienna:20220311T200000
DTSTAMP:20260423T090122
CREATED:20220126T111727Z
LAST-MODIFIED:20220208T131802Z
UID:2728-1647021600-1647028800@www.obgam.at
SUMMARY:Vorabendveranstaltung 28. Frühlingskongress:
DESCRIPTION:Die gesellschaftliche Verantwortung der Allgemeinmedizin\nVorsorge / Gesundheitsmanagement\nImpulsvortrag / mit anschließender Diskussion \nVORTRAGENDE: Dr. Erika Zelko\nDATUM: Freitag\, 11. März 2022\nZEIT: 18:00 Uhr\nORT: Courtyard by Marriott Linz\nANMELDUNG: office(at)obgam.at \nZum Programm des 28. Frühlingskongress \n 
URL:https://www.obgam.at/veranstaltung/vorabendveranstaltung-fruehlingskongress/
LOCATION:Courtyard by Marriott Linz\, Europaplatz 2\, Linz\, 4020\, Österreich
END:VEVENT
END:VCALENDAR