﻿BEGIN:VCALENDAR
VERSION:2.0
PRODID:-//OBGAM - ECPv6.14.1//NONSGML v1.0//EN
CALSCALE:GREGORIAN
METHOD:PUBLISH
X-ORIGINAL-URL:https://www.obgam.at
X-WR-CALDESC:Veranstaltungen für OBGAM
REFRESH-INTERVAL;VALUE=DURATION:PT1H
X-Robots-Tag:noindex
X-PUBLISHED-TTL:PT1H
BEGIN:VTIMEZONE
TZID:Europe/Vienna
BEGIN:DAYLIGHT
TZOFFSETFROM:+0100
TZOFFSETTO:+0200
TZNAME:CEST
DTSTART:20220327T010000
END:DAYLIGHT
BEGIN:STANDARD
TZOFFSETFROM:+0200
TZOFFSETTO:+0100
TZNAME:CET
DTSTART:20221030T010000
END:STANDARD
END:VTIMEZONE
BEGIN:VEVENT
DTSTART;TZID=Europe/Vienna:20220312T090000
DTEND;TZID=Europe/Vienna:20220312T150000
DTSTAMP:20260423T090125
CREATED:20210412T151113Z
LAST-MODIFIED:20220208T131810Z
UID:1933-1647075600-1647097200@www.obgam.at
SUMMARY:28. Frühlingskongress 2022 der OBGAM
DESCRIPTION:„Leber & Niere“ – Problemstellungen in der Hausarztpraxis \nDATUM: Samstag\, 12. März 2022\nZEIT: 09:00h – 15:00 Uhr\nORT: Courtyard by Marriott Linz\nKOSTEN: 50 – 130 Euro (je nach Mitgliedschaft)\nANMELDUNG: erforderlich unter office(at)obgam.at \nZum Programm
URL:https://www.obgam.at/veranstaltung/28-fruehlingskongress-2022-der-obgam/
LOCATION:Courtyard by Marriott Linz\, Europaplatz 2\, Linz\, 4020\, Österreich
END:VEVENT
END:VCALENDAR