﻿BEGIN:VCALENDAR
VERSION:2.0
PRODID:-//OBGAM - ECPv6.14.1//NONSGML v1.0//EN
CALSCALE:GREGORIAN
METHOD:PUBLISH
X-WR-CALNAME:OBGAM
X-ORIGINAL-URL:https://www.obgam.at
X-WR-CALDESC:Veranstaltungen für OBGAM
REFRESH-INTERVAL;VALUE=DURATION:PT1H
X-Robots-Tag:noindex
X-PUBLISHED-TTL:PT1H
BEGIN:VTIMEZONE
TZID:Europe/Vienna
BEGIN:DAYLIGHT
TZOFFSETFROM:+0100
TZOFFSETTO:+0200
TZNAME:CEST
DTSTART:20220327T010000
END:DAYLIGHT
BEGIN:STANDARD
TZOFFSETFROM:+0200
TZOFFSETTO:+0100
TZNAME:CET
DTSTART:20221030T010000
END:STANDARD
END:VTIMEZONE
BEGIN:VEVENT
DTSTART;TZID=Europe/Vienna:20220317T180000
DTEND;TZID=Europe/Vienna:20220317T190000
DTSTAMP:20260423T085548
CREATED:20220224T221534Z
LAST-MODIFIED:20220224T221722Z
UID:2791-1647540000-1647543600@www.obgam.at
SUMMARY:Allergiediagnostik in der allgemeinmedizinischen Praxis
DESCRIPTION:Dr. Erwin Rebhandl    I    Präsident von AM PLUS    I    Arzt für Allgemeinmedizin\, Haslach Prim. i.R. Dr. Gert Wurzinger    I     Facharzt für Lungenkrankheiten\, Graz \nDATUM: Donnerstag\, 17. März 2022\nZEIT: 18.00 – 19:00 Uhr\nORT: Online \nKOSTEN: Die Teilnahme ist kostenfrei. \nANMELDUNG: bis spätestens Mittwoch\, 16 März 2022  unter diesem Link
URL:https://www.obgam.at/veranstaltung/allergiediagnostik-in-der-allgemeinmedizinischen-praxis/
END:VEVENT
END:VCALENDAR