﻿BEGIN:VCALENDAR
VERSION:2.0
PRODID:-//OBGAM - ECPv6.14.1//NONSGML v1.0//EN
CALSCALE:GREGORIAN
METHOD:PUBLISH
X-ORIGINAL-URL:https://www.obgam.at
X-WR-CALDESC:Veranstaltungen für OBGAM
REFRESH-INTERVAL;VALUE=DURATION:PT1H
X-Robots-Tag:noindex
X-PUBLISHED-TTL:PT1H
BEGIN:VTIMEZONE
TZID:Europe/Vienna
BEGIN:DAYLIGHT
TZOFFSETFROM:+0100
TZOFFSETTO:+0200
TZNAME:CEST
DTSTART:20220327T010000
END:DAYLIGHT
BEGIN:STANDARD
TZOFFSETFROM:+0200
TZOFFSETTO:+0100
TZNAME:CET
DTSTART:20221030T010000
END:STANDARD
END:VTIMEZONE
BEGIN:VEVENT
DTSTART;VALUE=DATE:20220422
DTEND;VALUE=DATE:20220424
DTSTAMP:20260423T070711
CREATED:20220126T114630Z
LAST-MODIFIED:20220126T114630Z
UID:2742-1650585600-1650758399@www.obgam.at
SUMMARY:Moderatorentraining für Qualitätszirkel  im Gesundheitswesen
DESCRIPTION:MODUL 1\, MODUL 2\, MODUL 3 \nDATUM: 22. und 23. April 2022\nORT: ibis Linz City\, Kärntnerstraße 18-20\, 4020 Linz\nANMELDUNG: office(at)oegam.at \nZum Programm
URL:https://www.obgam.at/veranstaltung/moderatorentraining-fuer-qualitaetszirkel-im-gesundheitswesen/
LOCATION:ibis Linz City\, Kärntnerstraße 18-20\, Linz\, 4020
END:VEVENT
END:VCALENDAR