﻿BEGIN:VCALENDAR
VERSION:2.0
PRODID:-//OBGAM - ECPv6.14.1//NONSGML v1.0//EN
CALSCALE:GREGORIAN
METHOD:PUBLISH
X-WR-CALNAME:OBGAM
X-ORIGINAL-URL:https://www.obgam.at
X-WR-CALDESC:Veranstaltungen für OBGAM
REFRESH-INTERVAL;VALUE=DURATION:PT1H
X-Robots-Tag:noindex
X-PUBLISHED-TTL:PT1H
BEGIN:VTIMEZONE
TZID:Europe/Vienna
BEGIN:DAYLIGHT
TZOFFSETFROM:+0100
TZOFFSETTO:+0200
TZNAME:CEST
DTSTART:20220327T010000
END:DAYLIGHT
BEGIN:STANDARD
TZOFFSETFROM:+0200
TZOFFSETTO:+0100
TZNAME:CET
DTSTART:20221030T010000
END:STANDARD
END:VTIMEZONE
BEGIN:VEVENT
DTSTART;TZID=Europe/Vienna:20220511T190000
DTEND;TZID=Europe/Vienna:20220511T210000
DTSTAMP:20260423T045541
CREATED:20220414T201706Z
LAST-MODIFIED:20220414T201746Z
UID:2975-1652295600-1652302800@www.obgam.at
SUMMARY:Einladung zur OBGAM Generalversammlung
DESCRIPTION:DATUM: Mittwoch\, 11. Mai 2022\nZEIT: 19:00 Uhr\nORT: Courtyard by Marriott\, Linz \nDetails/Anmeldung unter office(at)obgam.at \n 
URL:https://www.obgam.at/veranstaltung/einladung-zur-obgam-generalversammlung/
LOCATION:Courtyard by Marriott Linz\, Europaplatz 2\, Linz\, 4020\, Österreich
END:VEVENT
END:VCALENDAR