﻿BEGIN:VCALENDAR
VERSION:2.0
PRODID:-//OBGAM - ECPv6.14.1//NONSGML v1.0//EN
CALSCALE:GREGORIAN
METHOD:PUBLISH
X-ORIGINAL-URL:https://www.obgam.at
X-WR-CALDESC:Veranstaltungen für OBGAM
REFRESH-INTERVAL;VALUE=DURATION:PT1H
X-Robots-Tag:noindex
X-PUBLISHED-TTL:PT1H
BEGIN:VTIMEZONE
TZID:Europe/Vienna
BEGIN:DAYLIGHT
TZOFFSETFROM:+0100
TZOFFSETTO:+0200
TZNAME:CEST
DTSTART:20220327T010000
END:DAYLIGHT
BEGIN:STANDARD
TZOFFSETFROM:+0200
TZOFFSETTO:+0100
TZNAME:CET
DTSTART:20221030T010000
END:STANDARD
END:VTIMEZONE
BEGIN:VEVENT
DTSTART;TZID=Europe/Vienna:20220517T100000
DTEND;TZID=Europe/Vienna:20220517T200000
DTSTAMP:20260423T050853
CREATED:20220302T181306Z
LAST-MODIFIED:20220302T181306Z
UID:2817-1652781600-1652817600@www.obgam.at
SUMMARY:2. Österreichische Fachtagung  OSTEOPATHIE & GENERALVERSAMMLUNG 2022 Moderatorentraining für Qualitätszirkel  im Gesundheitswesen
DESCRIPTION:VORPROGRAMM \nVORTRAGENDE: Dr. Erwin Rebhandl\, Haslach (Leitung)    I    Dr. Wolfgang Zillig\, Linz \nDATUM: Dienstag\, 17. Mai 2022\nZEIT: 10:00 Uhr – 20:00 Uhr\nORT: Bildungszentrum St. Benedikt\, Promenade 13\, 3353 Seitenstetten\nEine digitale Teilnahme ist per Livestream möglich. \nDETAILS / ANMELDUNG
URL:https://www.obgam.at/veranstaltung/2-oesterreichische-fachtagung-osteopathie-generalversammlung-2022-moderatorentraining-fuer-qualitaetszirkel-im-gesundheitswesen/
LOCATION:Bildungszentrum St. Benedikt\, Promenade 13\, Seitenstetten\, Niederösterreich\, 3353\, Österreich
END:VEVENT
END:VCALENDAR