﻿BEGIN:VCALENDAR
VERSION:2.0
PRODID:-//OBGAM - ECPv6.14.1//NONSGML v1.0//EN
CALSCALE:GREGORIAN
METHOD:PUBLISH
X-ORIGINAL-URL:https://www.obgam.at
X-WR-CALDESC:Veranstaltungen für OBGAM
REFRESH-INTERVAL;VALUE=DURATION:PT1H
X-Robots-Tag:noindex
X-PUBLISHED-TTL:PT1H
BEGIN:VTIMEZONE
TZID:Europe/Vienna
BEGIN:DAYLIGHT
TZOFFSETFROM:+0100
TZOFFSETTO:+0200
TZNAME:CEST
DTSTART:20220327T010000
END:DAYLIGHT
BEGIN:STANDARD
TZOFFSETFROM:+0200
TZOFFSETTO:+0100
TZNAME:CET
DTSTART:20221030T010000
END:STANDARD
END:VTIMEZONE
BEGIN:VEVENT
DTSTART;TZID=Europe/Vienna:20220624T130000
DTEND;TZID=Europe/Vienna:20220625T133000
DTSTAMP:20260423T031101
CREATED:20220620T071516Z
LAST-MODIFIED:20220620T071516Z
UID:3206-1656075600-1656163800@www.obgam.at
SUMMARY:5 Jahre Primärversorgungsgesetz / VON PILOTPROJEKTEN ZUR REGELVERSORGUNG
DESCRIPTION:DATUM:\nFreitag\, 24. Juni 2022\, 13.00 – 18.30 Uhr Samstag\, 25. Juni 2022\, 09.00 – 13:15 Uhr \nORT:\nPfarramt Haslach\, Kirchenplatz 1\, 4170 Haslach an der Mühl \nANMELDUNG:\nUnter der E-Mailadresse office(at)amplusgesundheit.at \nFür DETAILS hier klicken
URL:https://www.obgam.at/veranstaltung/5-jahre-primaerversorgungsgesetz-von-pilotprojekten-zur-regelversorgung/
LOCATION:Kirchenplatz 1\, 4170 Haslach\, Kirchenplatz 1\, Haslach an der Mühl\, Oberösterreich\, 4170\, Österreich
END:VEVENT
END:VCALENDAR