﻿BEGIN:VCALENDAR
VERSION:2.0
PRODID:-//OBGAM - ECPv6.14.1//NONSGML v1.0//EN
CALSCALE:GREGORIAN
METHOD:PUBLISH
X-WR-CALNAME:OBGAM
X-ORIGINAL-URL:https://www.obgam.at
X-WR-CALDESC:Veranstaltungen für OBGAM
REFRESH-INTERVAL;VALUE=DURATION:PT1H
X-Robots-Tag:noindex
X-PUBLISHED-TTL:PT1H
BEGIN:VTIMEZONE
TZID:Europe/Vienna
BEGIN:DAYLIGHT
TZOFFSETFROM:+0100
TZOFFSETTO:+0200
TZNAME:CEST
DTSTART:20220327T010000
END:DAYLIGHT
BEGIN:STANDARD
TZOFFSETFROM:+0200
TZOFFSETTO:+0100
TZNAME:CET
DTSTART:20221030T010000
END:STANDARD
END:VTIMEZONE
BEGIN:VEVENT
DTSTART;TZID=Europe/Vienna:20220916T083000
DTEND;TZID=Europe/Vienna:20220917T170000
DTSTAMP:20260422T213745
CREATED:20220806T035751Z
LAST-MODIFIED:20220806T035751Z
UID:3256-1663317000-1663434000@www.obgam.at
SUMMARY:NOTFALLSONOGRAPHIE für Allgemeinmediziner
DESCRIPTION:DATUM: 16. und 17. September 2022\, 8:30 – 17:00 Uhr\nORT: Primärversorgungszentrum\, Linz Mitte\, Oberösterreich \nINHALT:\n16-stündiger Basiskurs mit fokussierterEchokardiographie \nDie Sonographie ist in der heutigen Medizin nicht mehr wegzudenken. Mit der Notfallsonographie sind Sie in der Lage direkt am Patientenbett\, bei Visiten\, am Unfallort oder in der Praxis wesentliche Diagnosen zu stellen. In diesem ÖGUM-zertifizierten Basiskurs möchten wir Ausbildungsärzten und Allgemeinmedizinern die Grundkenntnisse der Notfallsonographie theoretisch näherbringen\, aber Ihnen vor allem auch die Möglichkeit bieten\, im praktischen Teil ausgiebig an Probanden zu üben. Wir haben uns um ein Programm bemüht\, von dem Anfänger genauso profitieren wie fortgeschrittene Sonographeure. \nEs werden für diese Veranstaltung um 16 DFP Punkte angesucht! \nZu den INFOS
URL:https://www.obgam.at/veranstaltung/notfallsonographie-fuer-allgemeinmediziner-2/
LOCATION:Primärversorgungszentrum Linz Mitte\, Hamerlingstr. 27\, Linz\, 4020\, Österreich
END:VEVENT
END:VCALENDAR