﻿BEGIN:VCALENDAR
VERSION:2.0
PRODID:-//OBGAM - ECPv6.14.1//NONSGML v1.0//EN
CALSCALE:GREGORIAN
METHOD:PUBLISH
X-ORIGINAL-URL:https://www.obgam.at
X-WR-CALDESC:Veranstaltungen für OBGAM
REFRESH-INTERVAL;VALUE=DURATION:PT1H
X-Robots-Tag:noindex
X-PUBLISHED-TTL:PT1H
BEGIN:VTIMEZONE
TZID:Europe/Vienna
BEGIN:DAYLIGHT
TZOFFSETFROM:+0100
TZOFFSETTO:+0200
TZNAME:CEST
DTSTART:20230326T010000
END:DAYLIGHT
BEGIN:STANDARD
TZOFFSETFROM:+0200
TZOFFSETTO:+0100
TZNAME:CET
DTSTART:20231029T010000
END:STANDARD
END:VTIMEZONE
BEGIN:VEVENT
DTSTART;TZID=Europe/Vienna:20230603T083000
DTEND;TZID=Europe/Vienna:20230603T173000
DTSTAMP:20260421T063939
CREATED:20230520T091842Z
LAST-MODIFIED:20230520T091842Z
UID:3938-1685781000-1685813400@www.obgam.at
SUMMARY:HAUS:ÄRZTIN DIALOG-TAG 2023 - MODERNE SCHMERZMEDIZIN
DESCRIPTION:Das Ordensklinikum Linz\, die OBGAM sowie das Fachmagazin Hausärzt:in laden herzlich zum Hausärzt:in DIALOGTAG in L inz ein.\nTeilnahmegebühr (inkl. Verpflegung): OBGAM-/ÖGAM-/Vinzenz Gruppe-Mitglieder € 65\, Nichtmitglieder € 85\, JAMÖ-Mitglieder/Student:innen kostenlos. \nKonzept des Hausärzt:in DIALOGTAGS:\nDie DFP-approbierte Tagung bietet niedergelassenen Ärzt:innen die Möglichkeit\, im Rahmen einer Veranstaltung in Kontakt mit Kliniker:innen zu treten – und vice versa. Der Fokus liegt dabei auf dem Themengebiet der Schmerzmedizin. \n\nKurze Vorträge bieten einen raschen Überblick über Neuigkeiten in verschiedenen Indikationen. Je ein/e Klinik- und ein/e Hausärzt:in referieren zu einem gemeinsamen Thema anhand von Fallbeispielen.\nUm eine reibungslose Abwicklung der Eintragung der DFP-Punkte zu gewährleisten\, melden Sie sich bitte mit Titel\, Vor- und Nachnamen sowie ÖÄK-Nummer an.\n\nORT: Seminarzentrum Ordensklinikum Linz\, Barmherzige Schwestern\, Herrenstraße 54\, 4020 Linz \nRückfragen an diese Emailadresse \nZur Anmeldung \nProgramm unter diesem Link
URL:https://www.obgam.at/veranstaltung/hausaerztin-dialog-tag-2023-moderne-schmerzmedizin/
LOCATION:Ordensklinikum Linz\, Herrenstraße 54\, Linz\, Oberösterreich\, 4020\, Österreich
END:VEVENT
END:VCALENDAR