﻿BEGIN:VCALENDAR
VERSION:2.0
PRODID:-//OBGAM - ECPv6.14.1//NONSGML v1.0//EN
CALSCALE:GREGORIAN
METHOD:PUBLISH
X-WR-CALNAME:OBGAM
X-ORIGINAL-URL:https://www.obgam.at
X-WR-CALDESC:Veranstaltungen für OBGAM
REFRESH-INTERVAL;VALUE=DURATION:PT1H
X-Robots-Tag:noindex
X-PUBLISHED-TTL:PT1H
BEGIN:VTIMEZONE
TZID:Europe/Vienna
BEGIN:DAYLIGHT
TZOFFSETFROM:+0100
TZOFFSETTO:+0200
TZNAME:CEST
DTSTART:20230326T010000
END:DAYLIGHT
BEGIN:STANDARD
TZOFFSETFROM:+0200
TZOFFSETTO:+0100
TZNAME:CET
DTSTART:20231029T010000
END:STANDARD
END:VTIMEZONE
BEGIN:VEVENT
DTSTART;VALUE=DATE:20230915
DTEND;VALUE=DATE:20230917
DTSTAMP:20260421T010437
CREATED:20230520T092935Z
LAST-MODIFIED:20230520T092935Z
UID:3948-1694736000-1694908799@www.obgam.at
SUMMARY:Notfallsonografie für Allgemeinmediziner:innen
DESCRIPTION:16-stündiger Basiskurs mit fokussierter Echokardiographie\nACHTUNG: beschränkte Teilnehmerzahl! \nAnmeldung/Vormerkung
URL:https://www.obgam.at/veranstaltung/notfallsonografie-fuer-allgemeinmedizinerinnen/
LOCATION:Primärversorgungszentrum Linz Mitte\, Hamerlingstr. 27\, Linz\, 4020\, Österreich
END:VEVENT
END:VCALENDAR