﻿BEGIN:VCALENDAR
VERSION:2.0
PRODID:-//OBGAM - ECPv6.14.1//NONSGML v1.0//EN
CALSCALE:GREGORIAN
METHOD:PUBLISH
X-ORIGINAL-URL:https://www.obgam.at
X-WR-CALDESC:Veranstaltungen für OBGAM
REFRESH-INTERVAL;VALUE=DURATION:PT1H
X-Robots-Tag:noindex
X-PUBLISHED-TTL:PT1H
BEGIN:VTIMEZONE
TZID:Europe/Vienna
BEGIN:DAYLIGHT
TZOFFSETFROM:+0100
TZOFFSETTO:+0200
TZNAME:CEST
DTSTART:20240331T010000
END:DAYLIGHT
BEGIN:STANDARD
TZOFFSETFROM:+0200
TZOFFSETTO:+0100
TZNAME:CET
DTSTART:20241027T010000
END:STANDARD
END:VTIMEZONE
BEGIN:VEVENT
DTSTART;VALUE=DATE:20240412
DTEND;VALUE=DATE:20240414
DTSTAMP:20260420T130501
CREATED:20240221T172554Z
LAST-MODIFIED:20240221T172554Z
UID:4457-1712880000-1713052799@www.obgam.at
SUMMARY:Vinzenz Gruppe Kongresstage für Chirurgie 2024
DESCRIPTION:Faszination Chirurgie: Ein Parcours durch aktuelle Aspekte \nDATUM: 12. und 13. April 2024\nORT: St. Josef Krankenhaus Wien\, Salvatorsaal\, Auhofstraße 189\, 1130 Wien \nKONGRESSTHEMEN: Arterielle Gefäßchirurgie\, Periopertatives Management\, Viszeralmedizin\, Narbenhernie\, Bariatrie und Reflux\, Proktologie \nDFP: Für die Veranstaltung sind 14 Fortbildungspunkte von der Österreichischen Ärztekammer bewilligt.  \nDetails finden Sie unter diesem Link
URL:https://www.obgam.at/veranstaltung/vinzenz-gruppe-kongresstage-fuer-chirurgie-2024/
LOCATION:St. Josef Krankenhaus Wien\, Auhofstraße 189\, Wien\, Wien\, 1130\, Österreich
END:VEVENT
BEGIN:VEVENT
DTSTART;VALUE=DATE:20240412
DTEND;VALUE=DATE:20240414
DTSTAMP:20260420T130501
CREATED:20240221T172716Z
LAST-MODIFIED:20240221T172716Z
UID:4458-1712880000-1713052799@www.obgam.at
SUMMARY:Praxisgründung leicht gemacht
DESCRIPTION:Der Weg zur eigenen Praxis \nBEGINN: 12. und 13. April 2024\nORT: Ärztekammer für OÖ\, 4010 Linz \nDer Workshop soll jungen Kolleginnen und Kollegen den Einstieg in die Praxis erleichtern und wird am 13.4. von unserem Vorstandsmitglied\, Dr. Sabedin Mustafa\, MSc geleitet und moderiert. \nDFP-PUNKTE: 15 Punkte für beide Tage \nDetails finden Sie unter diesem Link
URL:https://www.obgam.at/veranstaltung/praxisgruendung-leicht-gemacht/
END:VEVENT
END:VCALENDAR