﻿BEGIN:VCALENDAR
VERSION:2.0
PRODID:-//OBGAM - ECPv6.14.1//NONSGML v1.0//EN
CALSCALE:GREGORIAN
METHOD:PUBLISH
X-WR-CALNAME:OBGAM
X-ORIGINAL-URL:https://www.obgam.at
X-WR-CALDESC:Veranstaltungen für OBGAM
REFRESH-INTERVAL;VALUE=DURATION:PT1H
X-Robots-Tag:noindex
X-PUBLISHED-TTL:PT1H
BEGIN:VTIMEZONE
TZID:Europe/Vienna
BEGIN:DAYLIGHT
TZOFFSETFROM:+0100
TZOFFSETTO:+0200
TZNAME:CEST
DTSTART:20240331T010000
END:DAYLIGHT
BEGIN:STANDARD
TZOFFSETFROM:+0200
TZOFFSETTO:+0100
TZNAME:CET
DTSTART:20241027T010000
END:STANDARD
END:VTIMEZONE
BEGIN:VEVENT
DTSTART;VALUE=DATE:20240426
DTEND;VALUE=DATE:20240428
DTSTAMP:20260420T130122
CREATED:20240221T172408Z
LAST-MODIFIED:20240221T172408Z
UID:4456-1714089600-1714262399@www.obgam.at
SUMMARY:Vinzenz Gruppe Kongresstage Eltern-Kind-Medizin 2024
DESCRIPTION:Kindermedizin heute: Vom Einfachen zum Komplexen \nDATUM: 26. und 27. April 2024\nORT: Gesundheitspark Barmherzige Schwestern Linz\, Seminarräume 1. Stock\, Herrenstraße 54\, 4020 Linz \nKONGRESSTHEMEN:\nSpektrum der Kinderkardiologie in Fällen und Notfallmedizin\nKinderurologie und Kindernephrologie\nNeuropädiatrie und Kinderorthopädie \nDFP: Für die Veranstaltung sind 8 Fortbildungspunkte von der Österreichischen Ärztekammer bewilligt. \nDetails finden Sie unter diesem Link
URL:https://www.obgam.at/veranstaltung/vinzenz-gruppe-kongresstage-eltern-kind-medizin-2024/
LOCATION:Gesundheitspark Barmherzige Schwestern Linz\, Herrenstraße 54\, Linz\, Oberösterreich\, 4020\, Österreich
END:VEVENT
END:VCALENDAR