﻿BEGIN:VCALENDAR
VERSION:2.0
PRODID:-//OBGAM - ECPv6.14.1//NONSGML v1.0//EN
CALSCALE:GREGORIAN
METHOD:PUBLISH
X-WR-CALNAME:OBGAM
X-ORIGINAL-URL:https://www.obgam.at
X-WR-CALDESC:Veranstaltungen für OBGAM
REFRESH-INTERVAL;VALUE=DURATION:PT1H
X-Robots-Tag:noindex
X-PUBLISHED-TTL:PT1H
BEGIN:VTIMEZONE
TZID:Europe/Vienna
BEGIN:DAYLIGHT
TZOFFSETFROM:+0100
TZOFFSETTO:+0200
TZNAME:CEST
DTSTART:20250330T010000
END:DAYLIGHT
BEGIN:STANDARD
TZOFFSETFROM:+0200
TZOFFSETTO:+0100
TZNAME:CET
DTSTART:20251026T010000
END:STANDARD
END:VTIMEZONE
BEGIN:VEVENT
DTSTART;TZID=Europe/Vienna:20250917T080000
DTEND;TZID=Europe/Vienna:20250921T170000
DTSTAMP:20260419T223733
CREATED:20250702T205438Z
LAST-MODIFIED:20250702T205438Z
UID:5722-1758096000-1758474000@www.obgam.at
SUMMARY:WONCA World Conference 2025
DESCRIPTION:ORT: Kongresscenter Lissabon – CCL\nDETAILS / ANMELDUNG unter diesem LINK
URL:https://www.obgam.at/veranstaltung/wonca-world-conference-2025/
LOCATION:Kongresscenter Lissabon\, Praça das Indústrias 1\, Lisboa\, 1300-307\, Portugal
END:VEVENT
BEGIN:VEVENT
DTSTART;TZID=Europe/Vienna:20250920T090000
DTEND;TZID=Europe/Vienna:20250920T170000
DTSTAMP:20260419T223733
CREATED:20250702T205539Z
LAST-MODIFIED:20250702T205600Z
UID:5723-1758358800-1758387600@www.obgam.at
SUMMARY:21. Linzer Kongress für Allgemeinmedizin
DESCRIPTION:DATUM: Samstag\, 20. September 2025\, 09.00 bis17.00 Uhr\nORT: JKU MED Campus I\, Lehrgebäude\, Krankenhausstraße 5\, Linz \nDETAILS und ANMELDUNG unter diesem Link
URL:https://www.obgam.at/veranstaltung/21-linzer-kongress-fuer-allgemeinmedizin/
LOCATION:JKU\, Krankenhausstraße 5\, Linz\, 4020
END:VEVENT
END:VCALENDAR