﻿BEGIN:VCALENDAR
VERSION:2.0
PRODID:-//OBGAM - ECPv6.14.1//NONSGML v1.0//EN
CALSCALE:GREGORIAN
METHOD:PUBLISH
X-WR-CALNAME:OBGAM
X-ORIGINAL-URL:https://www.obgam.at
X-WR-CALDESC:Veranstaltungen für OBGAM
REFRESH-INTERVAL;VALUE=DURATION:PT1H
X-Robots-Tag:noindex
X-PUBLISHED-TTL:PT1H
BEGIN:VTIMEZONE
TZID:Europe/Vienna
BEGIN:DAYLIGHT
TZOFFSETFROM:+0100
TZOFFSETTO:+0200
TZNAME:CEST
DTSTART:20250330T010000
END:DAYLIGHT
BEGIN:STANDARD
TZOFFSETFROM:+0200
TZOFFSETTO:+0100
TZNAME:CET
DTSTART:20251026T010000
END:STANDARD
END:VTIMEZONE
BEGIN:VEVENT
DTSTART;TZID=Europe/Vienna:20251121T150000
DTEND;TZID=Europe/Vienna:20251121T200000
DTSTAMP:20260420T003347
CREATED:20240311T062348Z
LAST-MODIFIED:20240311T062348Z
UID:4612-1763737200-1763755200@www.obgam.at
SUMMARY:ORTHOPÄDIE-AKADEMIE Modul 8
DESCRIPTION:INFOS und ANMELDUNG
URL:https://www.obgam.at/veranstaltung/orthopaedie-akademie-modul-8/
LOCATION:Gesundheitspark Barmherzige Schwestern Linz\, Herrenstraße 54\, Linz\, Oberösterreich\, 4020\, Österreich
END:VEVENT
END:VCALENDAR