﻿BEGIN:VCALENDAR
VERSION:2.0
PRODID:-//OBGAM - ECPv6.14.1//NONSGML v1.0//EN
CALSCALE:GREGORIAN
METHOD:PUBLISH
X-WR-CALNAME:OBGAM
X-ORIGINAL-URL:https://www.obgam.at
X-WR-CALDESC:Veranstaltungen für OBGAM
REFRESH-INTERVAL;VALUE=DURATION:PT1H
X-Robots-Tag:noindex
X-PUBLISHED-TTL:PT1H
BEGIN:VTIMEZONE
TZID:Europe/Vienna
BEGIN:DAYLIGHT
TZOFFSETFROM:+0100
TZOFFSETTO:+0200
TZNAME:CEST
DTSTART:20250330T010000
END:DAYLIGHT
BEGIN:STANDARD
TZOFFSETFROM:+0200
TZOFFSETTO:+0100
TZNAME:CET
DTSTART:20251026T010000
END:STANDARD
END:VTIMEZONE
BEGIN:VEVENT
DTSTART;VALUE=DATE:20251130
DTEND;VALUE=DATE:20251201
DTSTAMP:20260420T003200
CREATED:20251010T211738Z
LAST-MODIFIED:20251010T211800Z
UID:6256-1764460800-1764547199@www.obgam.at
SUMMARY:ÖGAM / JAMÖ connect – gemeinsam Wachsen – „Raum für Austausch\, Ideen und Engagement – zuhören\, mitgestalten“
DESCRIPTION:DATUM: Sonntag\, 30. November 2025 (direkt im Anschluss zum STAFAM-Kongress)\nORT: Räumlichkeiten beim STAFAM-Kongress\, genauer Raum tbd \nFür interessierte ÖGAM- Mitglieder und JAMÖ-Mitglieder\, die Ideen einbringen und “die ÖGAM” besser kennenlernen wollen \nANMELDUNG: Anmeldungen bitte bis 16.11.2025 an office(at)oegam.at \nZu den DETAILS
URL:https://www.obgam.at/veranstaltung/oegam-jamoe-connect-gemeinsam-wachsen-raum-fuer-austausch-ideen-und-engagement-zuhoeren-mitgestalten/
END:VEVENT
END:VCALENDAR