﻿BEGIN:VCALENDAR
VERSION:2.0
PRODID:-//OBGAM - ECPv6.14.1//NONSGML v1.0//EN
CALSCALE:GREGORIAN
METHOD:PUBLISH
X-WR-CALNAME:OBGAM
X-ORIGINAL-URL:https://www.obgam.at
X-WR-CALDESC:Veranstaltungen für OBGAM
REFRESH-INTERVAL;VALUE=DURATION:PT1H
X-Robots-Tag:noindex
X-PUBLISHED-TTL:PT1H
BEGIN:VTIMEZONE
TZID:Europe/Vienna
BEGIN:DAYLIGHT
TZOFFSETFROM:+0100
TZOFFSETTO:+0200
TZNAME:CEST
DTSTART:20260329T010000
END:DAYLIGHT
BEGIN:STANDARD
TZOFFSETFROM:+0200
TZOFFSETTO:+0100
TZNAME:CET
DTSTART:20261025T010000
END:STANDARD
END:VTIMEZONE
BEGIN:VEVENT
DTSTART;TZID=Europe/Vienna:20260424T090000
DTEND;TZID=Europe/Vienna:20260424T163000
DTSTAMP:20260424T021205
CREATED:20260414T161128Z
LAST-MODIFIED:20260414T161128Z
UID:6599-1777021200-1777048200@www.obgam.at
SUMMARY:Praxisgründung leicht gemacht – jetzt Restplätze sichern!
DESCRIPTION:Der Weg zur eigenen Praxis \nDATUM: Freitag 24. April\, 9 bis 16.30 Uhr u./o. Samstag 25. April\, 9 bis 15.30 Uhr\nORT: Ärztekammer für OÖ\, Dinghoferstraße 4 4010 Linz \nDETAILS und ANMELDUNG \n 
URL:https://www.obgam.at/veranstaltung/praxisgruendung-leicht-gemacht-jetzt-restplaetze-sichern/
LOCATION:Ärztekammer für OÖ\, Dinghoferstraße 4\, Linz\, 4010\, Austria
END:VEVENT
END:VCALENDAR