﻿BEGIN:VCALENDAR
VERSION:2.0
PRODID:-//OBGAM - ECPv6.14.1//NONSGML v1.0//EN
CALSCALE:GREGORIAN
METHOD:PUBLISH
X-ORIGINAL-URL:https://www.obgam.at
X-WR-CALDESC:Veranstaltungen für OBGAM
REFRESH-INTERVAL;VALUE=DURATION:PT1H
X-Robots-Tag:noindex
X-PUBLISHED-TTL:PT1H
BEGIN:VTIMEZONE
TZID:Europe/Vienna
BEGIN:DAYLIGHT
TZOFFSETFROM:+0100
TZOFFSETTO:+0200
TZNAME:CEST
DTSTART:20210328T010000
END:DAYLIGHT
BEGIN:STANDARD
TZOFFSETFROM:+0200
TZOFFSETTO:+0100
TZNAME:CET
DTSTART:20211031T010000
END:STANDARD
END:VTIMEZONE
BEGIN:VEVENT
DTSTART;TZID=Europe/Vienna:20210908T190000
DTEND;TZID=Europe/Vienna:20210908T210000
DTSTAMP:20260423T182813
CREATED:20210827T102909Z
LAST-MODIFIED:20210827T102947Z
UID:2429-1631127600-1631134800@www.obgam.at
SUMMARY:Eosinophile Ösophagitis (EoE) – wenn Schlucken zum Problem wird!
DESCRIPTION:DATUM: Mittwoch\, 8. September 2021\nZEIT: 19:00h – 21:00 Uhr\nORT: Courtyard by Marriott\, Europaplatz 2\, 4020 Linz \nANMELDUNG: erforderlich unter office(at)obgam.at\nDie Fortbildungspunkte werden für das DFP (Richtlinien der ÖÄK) anerkannt.\n3 Fortbildungspunkte Allgemeinmedizin / ID-Nr 713155 \nMehr Details
URL:https://www.obgam.at/veranstaltung/eosinophile-oesophagitis-eoe-wenn-schlucken-zum-problem-wird/
END:VEVENT
BEGIN:VEVENT
DTSTART;TZID=Europe/Vienna:20210916T180000
DTEND;TZID=Europe/Vienna:20210916T193000
DTSTAMP:20260423T182813
CREATED:20210912T221222Z
LAST-MODIFIED:20210912T221222Z
UID:2454-1631815200-1631820600@www.obgam.at
SUMMARY:Alpha 1 SUMMIT – a patient journey
DESCRIPTION:Webinarserie \nZEIT: 18:00 – 19:30 Uhr\nORT: Online \nANMELDUNG: Unter diesem Link \nAnrechenbarkeit: ÄrztInnen DFP (wird eingereicht) \nMehr Details
URL:https://www.obgam.at/veranstaltung/alpha-1-summit-a-patient-journey/
END:VEVENT
BEGIN:VEVENT
DTSTART;TZID=Europe/Vienna:20210923T180000
DTEND;TZID=Europe/Vienna:20210923T203000
DTSTAMP:20260423T182813
CREATED:20210531T142312Z
LAST-MODIFIED:20210531T142507Z
UID:2228-1632420000-1632429000@www.obgam.at
SUMMARY:ONLINE-Fortbildungsreihe CURRICULUM DERMATOLOGICUM 2021
DESCRIPTION:INFEKTIONEN DER HAUT IN DER ALLTÄGLICHEN PRAXIS / FÄ Dr.in Elisabeth Fabian \nKINDERDERMATOLOGIE – EINE HERAUSFORDERUNG / OÄ Dr.in Daniella Winter \nDATUM: Donnerstag\, 23. September 2021\nZEIT: 18.00 – 20.30 Uhr\nORT: Online\nKOSTEN: 30\,- / 40\,- Euro\nANMELDUNG: erforderlich unter https://www.reglist24.com/curriculum-dermatologicum21-2 \nMehr Details
URL:https://www.obgam.at/veranstaltung/online-fortbildungsreihe-curriculum-dermatologicum-2021/
END:VEVENT
BEGIN:VEVENT
DTSTART;VALUE=DATE:20210924
DTEND;VALUE=DATE:20210926
DTSTAMP:20260423T182813
CREATED:20210825T102333Z
LAST-MODIFIED:20210825T111100Z
UID:2379-1632441600-1632614399@www.obgam.at
SUMMARY:NOTFALLSONOGRAPHIE für Allgemeinmediziner
DESCRIPTION:DATUM: 24. – 25. September 2021\nZEIT: 08:30 – 17:00 Uhr\nORT: Primärversorgungszentrum Linz Mitte\, Stifterstraße 3\, 4020 Linz\nKOSTEN: € 450 (Ärzte in Ausbildung € 300) inkl. Pausenverpflegung\, Kursunterlagen\nANMELDUNG: erforderlich unter office(at)obgam.at \nÖGUM-zertifizierter Basiskurs mit fokussierter Echokardiographie.\nEs werden für diese Veranstaltung um 16 DFP Punkte angesucht! \nZum Programm
URL:https://www.obgam.at/veranstaltung/notfallsonographie-fuer-allgemeinmediziner/
LOCATION:Primärversorgungszentrum Linz Mitte\, Hamerlingstr. 27\, Linz\, 4020\, Österreich
END:VEVENT
BEGIN:VEVENT
DTSTART;TZID=Europe/Vienna:20210924T130000
DTEND;TZID=Europe/Vienna:20210925T200000
DTSTAMP:20260423T182813
CREATED:20210825T103128Z
LAST-MODIFIED:20210825T103641Z
UID:2392-1632488400-1632600000@www.obgam.at
SUMMARY:Primärversorgungseinheiten INTERNATIONALE UMSETZUNGEN – VISIONEN FÜR ÖSTERREICH
DESCRIPTION:DATUM: 24. – 25. September 2021\nZEIT: 13:00 – 20:00 Uhr\, 08:30 – 14:00 Uhr\nORT: Pfarramt Haslach\, Kirchenplatz 1\, 4170 Haslach an der Mühl \nKOSTEN: € 180\,– / reduzierte Teilnahmegebühr: € 120\,–\nANMELDUNG: erforderlich unter office(at)amplusgesundheit.at \nDie Veranstaltung wird mit 8 DFP Punkten approbiert. \nZum Programm
URL:https://www.obgam.at/veranstaltung/primaerversorgungseinheiten-internationale-umsetzungen-visionen-fuer-oesterreich/
LOCATION:Kirchenplatz 1\, 4170 Haslach\, Kirchenplatz 1\, Haslach an der Mühl\, Oberösterreich\, 4170\, Österreich
END:VEVENT
BEGIN:VEVENT
DTSTART;TZID=Europe/Vienna:20210930T180000
DTEND;TZID=Europe/Vienna:20210930T183000
DTSTAMP:20260423T182813
CREATED:20210912T221313Z
LAST-MODIFIED:20210912T221313Z
UID:2456-1633024800-1633026600@www.obgam.at
SUMMARY:Alpha 1 SUMMIT – a patient journey / Termin 2
DESCRIPTION:Webinarserie \nZEIT: 18:00 – 19:30 Uhr\nORT: Online \nANMELDUNG: Unter diesem Link \nAnrechenbarkeit: ÄrztInnen DFP (wird eingereicht) \nMehr Details
URL:https://www.obgam.at/veranstaltung/alpha-1-summit-a-patient-journey-termin-2/
END:VEVENT
END:VCALENDAR