﻿BEGIN:VCALENDAR
VERSION:2.0
PRODID:-//OBGAM - ECPv6.14.1//NONSGML v1.0//EN
CALSCALE:GREGORIAN
METHOD:PUBLISH
X-ORIGINAL-URL:https://www.obgam.at
X-WR-CALDESC:Veranstaltungen für OBGAM
REFRESH-INTERVAL;VALUE=DURATION:PT1H
X-Robots-Tag:noindex
X-PUBLISHED-TTL:PT1H
BEGIN:VTIMEZONE
TZID:Europe/Vienna
BEGIN:DAYLIGHT
TZOFFSETFROM:+0100
TZOFFSETTO:+0200
TZNAME:CEST
DTSTART:20210328T010000
END:DAYLIGHT
BEGIN:STANDARD
TZOFFSETFROM:+0200
TZOFFSETTO:+0100
TZNAME:CET
DTSTART:20211031T010000
END:STANDARD
END:VTIMEZONE
BEGIN:VEVENT
DTSTART;TZID=Europe/Vienna:20211202T180000
DTEND;TZID=Europe/Vienna:20211202T203000
DTSTAMP:20260423T124936
CREATED:20210531T142610Z
LAST-MODIFIED:20210531T142610Z
UID:2232-1638468000-1638477000@www.obgam.at
SUMMARY:ONLINE-Fortbildungsreihe CURRICULUM DERMATOLOGICUM 2021
DESCRIPTION:PSORIASIS – EINE ERKRANKUNG MIT “SYSTEM“\nWISSENSWERTES UND NEUE THERAPIEKONZEPTE / OA Dr. Alexander Mlynek\nKOLLAGENOSEN – SELTEN\, ABER WICHTIG / OÄ Dr.in Marija Geroldinger-Simic \nDATUM: Donnerstag\, 2. Dezember 2021\nZEIT: 18.00 – 20.30 Uhr\nORT: Online\nKOSTEN: 30\,- / 40\,- Euro\nANMELDUNG: erforderlich unter https://www.reglist24.com/curriculum-dermatologicum21-2 \nMehr Details
URL:https://www.obgam.at/veranstaltung/online-fortbildungsreihe-curriculum-dermatologicum-2021-3/
END:VEVENT
END:VCALENDAR