﻿BEGIN:VCALENDAR
VERSION:2.0
PRODID:-//OBGAM - ECPv6.14.1//NONSGML v1.0//EN
CALSCALE:GREGORIAN
METHOD:PUBLISH
X-ORIGINAL-URL:https://www.obgam.at
X-WR-CALDESC:Veranstaltungen für OBGAM
REFRESH-INTERVAL;VALUE=DURATION:PT1H
X-Robots-Tag:noindex
X-PUBLISHED-TTL:PT1H
BEGIN:VTIMEZONE
TZID:Europe/Vienna
BEGIN:DAYLIGHT
TZOFFSETFROM:+0100
TZOFFSETTO:+0200
TZNAME:CEST
DTSTART:20220327T010000
END:DAYLIGHT
BEGIN:STANDARD
TZOFFSETFROM:+0200
TZOFFSETTO:+0100
TZNAME:CET
DTSTART:20221030T010000
END:STANDARD
END:VTIMEZONE
BEGIN:VEVENT
DTSTART;TZID=Europe/Vienna:20220217T180000
DTEND;TZID=Europe/Vienna:20220217T193000
DTSTAMP:20260423T090248
CREATED:20220126T112419Z
LAST-MODIFIED:20220126T112514Z
UID:2738-1645120800-1645126200@www.obgam.at
SUMMARY:Die vielen Facetten der Plastischen Brustchirurgie
DESCRIPTION:DATUM: Donnerstag\, 17. Februar 2022\nZEIT: 18.00 Uhr\nORT: Online \nKOSTEN: Die Teilnahme ist kostenlos. \nANMELDUNG: bis spätestens Montag\, 14. Februar 2022 an Frau Christine Hutterer    I    Per E-Mail unter hutterer(at)medak.at oder per Telefon unter 0732/77 83 71-313 \nMehr Details
URL:https://www.obgam.at/veranstaltung/die-vielen-facetten-der-plastischen-brustchirurgie/
LOCATION:Findet ONLINE statt\, Findet ONLINE statt\, Österreich
END:VEVENT
END:VCALENDAR