﻿BEGIN:VCALENDAR
VERSION:2.0
PRODID:-//OBGAM - ECPv6.14.1//NONSGML v1.0//EN
CALSCALE:GREGORIAN
METHOD:PUBLISH
X-WR-CALNAME:OBGAM
X-ORIGINAL-URL:https://www.obgam.at
X-WR-CALDESC:Veranstaltungen für OBGAM
REFRESH-INTERVAL;VALUE=DURATION:PT1H
X-Robots-Tag:noindex
X-PUBLISHED-TTL:PT1H
BEGIN:VTIMEZONE
TZID:Europe/Vienna
BEGIN:DAYLIGHT
TZOFFSETFROM:+0100
TZOFFSETTO:+0200
TZNAME:CEST
DTSTART:20230326T010000
END:DAYLIGHT
BEGIN:STANDARD
TZOFFSETFROM:+0200
TZOFFSETTO:+0100
TZNAME:CET
DTSTART:20231029T010000
END:STANDARD
END:VTIMEZONE
BEGIN:VEVENT
DTSTART;TZID=Europe/Vienna:20230509T190000
DTEND;TZID=Europe/Vienna:20230509T220000
DTSTAMP:20260421T063723
CREATED:20230331T132157Z
LAST-MODIFIED:20230331T132157Z
UID:3728-1683658800-1683669600@www.obgam.at
SUMMARY:OBGAM Generalversammlung
DESCRIPTION:Tagesordnung: \n\nBegrüßung und Bericht des Präsidenten\nBericht des Kassiers\nErgebnis der Rechnungsprüfung und Entlastung des Kassiers\nAktuelles zur künftigen Vereinsarbeit\nAllfälliges
URL:https://www.obgam.at/veranstaltung/obgam-generalversammlung/
LOCATION:Courtyard by Marriott Linz\, Europaplatz 2\, Linz\, 4020\, Österreich
END:VEVENT
END:VCALENDAR