﻿BEGIN:VCALENDAR
VERSION:2.0
PRODID:-//OBGAM - ECPv6.14.1//NONSGML v1.0//EN
CALSCALE:GREGORIAN
METHOD:PUBLISH
X-WR-CALNAME:OBGAM
X-ORIGINAL-URL:https://www.obgam.at
X-WR-CALDESC:Veranstaltungen für OBGAM
REFRESH-INTERVAL;VALUE=DURATION:PT1H
X-Robots-Tag:noindex
X-PUBLISHED-TTL:PT1H
BEGIN:VTIMEZONE
TZID:Europe/Vienna
BEGIN:DAYLIGHT
TZOFFSETFROM:+0100
TZOFFSETTO:+0200
TZNAME:CEST
DTSTART:20230326T010000
END:DAYLIGHT
BEGIN:STANDARD
TZOFFSETFROM:+0200
TZOFFSETTO:+0100
TZNAME:CET
DTSTART:20231029T010000
END:STANDARD
END:VTIMEZONE
BEGIN:VEVENT
DTSTART;TZID=Europe/Vienna:20230902T090000
DTEND;TZID=Europe/Vienna:20230902T170000
DTSTAMP:20260420T231336
CREATED:20230628T205612Z
LAST-MODIFIED:20230727T092245Z
UID:3990-1693645200-1693674000@www.obgam.at
SUMMARY:Notfälle in der Hausarztpraxis.
DESCRIPTION:Zum Programm \nORT: 4470 GHZ Enns\, Kathrein-Straße 19\nVERANSTALTER: Obgam
URL:https://www.obgam.at/veranstaltung/notfaelle-in-der-hausarztpraxis-2/
END:VEVENT
BEGIN:VEVENT
DTSTART;VALUE=DATE:20230915
DTEND;VALUE=DATE:20230917
DTSTAMP:20260420T231336
CREATED:20230520T092935Z
LAST-MODIFIED:20230520T092935Z
UID:3948-1694736000-1694908799@www.obgam.at
SUMMARY:Notfallsonografie für Allgemeinmediziner:innen
DESCRIPTION:16-stündiger Basiskurs mit fokussierter Echokardiographie\nACHTUNG: beschränkte Teilnehmerzahl! \nAnmeldung/Vormerkung
URL:https://www.obgam.at/veranstaltung/notfallsonografie-fuer-allgemeinmedizinerinnen/
LOCATION:Primärversorgungszentrum Linz Mitte\, Hamerlingstr. 27\, Linz\, 4020\, Österreich
END:VEVENT
BEGIN:VEVENT
DTSTART;TZID=Europe/Vienna:20230926T180000
DTEND;TZID=Europe/Vienna:20230926T190000
DTSTAMP:20260420T231336
CREATED:20230726T153505Z
LAST-MODIFIED:20230726T153505Z
UID:4062-1695751200-1695754800@www.obgam.at
SUMMARY:Webinar: Onkologie kompakt: Nebenwirkungsmanagement bei Onkologischen Erkrankungen
DESCRIPTION:DATUM: 26. September 2023\, 18:00 – 19:00 Uhr\nORT: Online (Webinar) \nFORTBILDUNGSPUNKTE: Für diese Online-Weiterbildung wurde 1 Fortbildungspunkt bei der Österreichischen Ärztekammer bestätigt. \nINFOS und ANMELDUNG
URL:https://www.obgam.at/veranstaltung/webinar-onkologie-kompakt-nebenwirkungsmanagement-bei-onkologischen-erkrankungen/
LOCATION:Findet ONLINE statt\, Findet ONLINE statt\, Österreich
END:VEVENT
END:VCALENDAR