﻿BEGIN:VCALENDAR
VERSION:2.0
PRODID:-//OBGAM - ECPv6.14.1//NONSGML v1.0//EN
CALSCALE:GREGORIAN
METHOD:PUBLISH
X-WR-CALNAME:OBGAM
X-ORIGINAL-URL:https://www.obgam.at
X-WR-CALDESC:Veranstaltungen für OBGAM
REFRESH-INTERVAL;VALUE=DURATION:PT1H
X-Robots-Tag:noindex
X-PUBLISHED-TTL:PT1H
BEGIN:VTIMEZONE
TZID:Europe/Vienna
BEGIN:DAYLIGHT
TZOFFSETFROM:+0100
TZOFFSETTO:+0200
TZNAME:CEST
DTSTART:20230326T010000
END:DAYLIGHT
BEGIN:STANDARD
TZOFFSETFROM:+0200
TZOFFSETTO:+0100
TZNAME:CET
DTSTART:20231029T010000
END:STANDARD
END:VTIMEZONE
BEGIN:VEVENT
DTSTART;VALUE=DATE:20231006
DTEND;VALUE=DATE:20231008
DTSTAMP:20260420T213216
CREATED:20230520T093033Z
LAST-MODIFIED:20230726T091846Z
UID:3950-1696550400-1696723199@www.obgam.at
SUMMARY:5. Autoimmun-Symposium
DESCRIPTION:DATUM: 6. – 7. Oktober 2023\nORT: Energie AG Oberösterreich (Power Tower\, Böhmerwaldstraße 3\, 4020 Linz) \n\nANMEDLUNG und INFOS unter diesem Link
URL:https://www.obgam.at/veranstaltung/5-autoimmun-symposium/
LOCATION:Power Tower\, Böhmerwaldstraße 3\, Linz\, 4020\, Österreich
END:VEVENT
BEGIN:VEVENT
DTSTART;TZID=Europe/Vienna:20231006T113000
DTEND;TZID=Europe/Vienna:20231007T150000
DTSTAMP:20260420T213216
CREATED:20230726T092629Z
LAST-MODIFIED:20230726T092732Z
UID:4023-1696591800-1696690800@www.obgam.at
SUMMARY:Kongress: Onkologie für die Praxis
DESCRIPTION:DATUM: 6. – 7. Oktober 2023\nORT: Energie AG Oberösterreich (Power Tower\, Böhmerwaldstraße 3\, 4020 Linz) \nANMEDLUNG und INFOS unter diesem Link \n13 DFP beantragt.
URL:https://www.obgam.at/veranstaltung/kongress-onkologie-fuer-die-praxis/
LOCATION:Energie AG Oberösterreich (Power Tower)
END:VEVENT
BEGIN:VEVENT
DTSTART;VALUE=DATE:20231021
DTEND;VALUE=DATE:20231022
DTSTAMP:20260420T213216
CREATED:20230726T153633Z
LAST-MODIFIED:20230726T153737Z
UID:4063-1697846400-1697932799@www.obgam.at
SUMMARY:JAM 23 – Kongress der Jungen Allgemeinmedizin
DESCRIPTION:DATUM: 21. Oktober 2023\nORT: BBRZ\, Grillparzer Straße 50\, 4020 Linz \nINFOS und ANMELDUNG
URL:https://www.obgam.at/veranstaltung/jam-23-kongress-der-jungen-allgemeinmedizin/
LOCATION:BBRZ\, Grillparzer Straße 50\, Linz\, Oberösterreich\, 4020\, Österreich
END:VEVENT
END:VCALENDAR