﻿BEGIN:VCALENDAR
VERSION:2.0
PRODID:-//OBGAM - ECPv6.14.1//NONSGML v1.0//EN
CALSCALE:GREGORIAN
METHOD:PUBLISH
X-ORIGINAL-URL:https://www.obgam.at
X-WR-CALDESC:Veranstaltungen für OBGAM
REFRESH-INTERVAL;VALUE=DURATION:PT1H
X-Robots-Tag:noindex
X-PUBLISHED-TTL:PT1H
BEGIN:VTIMEZONE
TZID:Europe/Vienna
BEGIN:DAYLIGHT
TZOFFSETFROM:+0100
TZOFFSETTO:+0200
TZNAME:CEST
DTSTART:20230326T010000
END:DAYLIGHT
BEGIN:STANDARD
TZOFFSETFROM:+0200
TZOFFSETTO:+0100
TZNAME:CET
DTSTART:20231029T010000
END:STANDARD
END:VTIMEZONE
BEGIN:VEVENT
DTSTART;TZID=Europe/Vienna:20231107T180000
DTEND;TZID=Europe/Vienna:20231107T210000
DTSTAMP:20260420T195545
CREATED:20230930T194759Z
LAST-MODIFIED:20230930T194759Z
UID:4115-1699380000-1699390800@www.obgam.at
SUMMARY:PRAXISWISSEN Gastroenterologie & Hepatologie
DESCRIPTION:DATUM: 7. November 2023 (ab 18:00)\nORT: Gesundheitspark Barmherzige Schwestern Linz Seminarräume 1. Stock\, Herrenstraße 54\, 4020 Linz \nINFOS und ANMELDUNG \nDFP-PUNKTE: Für diese Veranstaltung wurden 2 Fortbildungspunkte approbiert.
URL:https://www.obgam.at/veranstaltung/praxiswissen-gastroenterologie-hepatologie/
LOCATION:Gesundheitspark Ordensklinikum Linz\, Herrenstraße 54\, Linz\, Oberösterreich\, 4020\, Österreich
END:VEVENT
BEGIN:VEVENT
DTSTART;TZID=Europe/Vienna:20231129T183000
DTEND;TZID=Europe/Vienna:20231129T210000
DTSTAMP:20260420T195545
CREATED:20231016T131221Z
LAST-MODIFIED:20231016T131221Z
UID:4128-1701282600-1701291600@www.obgam.at
SUMMARY:Einladung zur außerordentlichen Generalversammlung
DESCRIPTION:DATUM: 29. November 2023\, 18:45 Uhr\nORT: Büro Johanna Holzhaider\, Aubergstraße 13\, 4040 Linz \nANMELDUNGEN bitte bis 27.11.2023 unter office(at)obgam.at\nINFOS unter diesem Link \n 
URL:https://www.obgam.at/veranstaltung/einladung-zur-ausserordentlichen-generalversammlung/
END:VEVENT
END:VCALENDAR