﻿BEGIN:VCALENDAR
VERSION:2.0
PRODID:-//OBGAM - ECPv6.14.1//NONSGML v1.0//EN
CALSCALE:GREGORIAN
METHOD:PUBLISH
X-WR-CALNAME:OBGAM
X-ORIGINAL-URL:https://www.obgam.at
X-WR-CALDESC:Veranstaltungen für OBGAM
REFRESH-INTERVAL;VALUE=DURATION:PT1H
X-Robots-Tag:noindex
X-PUBLISHED-TTL:PT1H
BEGIN:VTIMEZONE
TZID:Europe/Vienna
BEGIN:DAYLIGHT
TZOFFSETFROM:+0100
TZOFFSETTO:+0200
TZNAME:CEST
DTSTART:20250330T010000
END:DAYLIGHT
BEGIN:STANDARD
TZOFFSETFROM:+0200
TZOFFSETTO:+0100
TZNAME:CET
DTSTART:20251026T010000
END:STANDARD
END:VTIMEZONE
BEGIN:VEVENT
DTSTART;TZID=Europe/Vienna:20251112T180000
DTEND;TZID=Europe/Vienna:20251112T190000
DTSTAMP:20260419T224418
CREATED:20250409T112458Z
LAST-MODIFIED:20250409T112458Z
UID:5537-1762970400-1762974000@www.obgam.at
SUMMARY:Plastische Chirurgie in der Praxis
DESCRIPTION:  \n12.11 von 18.00 bis 19.00 Uhr\nORT: Online-Fortbildungsreihe für niedergelassene Allgemeinmediziner*innen \nDie Teilnahme ist kostenlos. Wir bitten um Ihre Anmeldung unter:\nZUR ANMELDUNG \nZUM PROGRAMM \nDFP-PUNKTE: Für diese Fortbildungsreihe wurden bei der ÖÄK 4 Fortbildungspunkte angefragt. \n 
URL:https://www.obgam.at/veranstaltung/plastische-chirurgie-in-der-praxis-4/
LOCATION:Findet ONLINE statt\, Findet ONLINE statt\, Österreich
END:VEVENT
BEGIN:VEVENT
DTSTART;TZID=Europe/Vienna:20251118T193000
DTEND;TZID=Europe/Vienna:20251118T213000
DTSTAMP:20260419T224418
CREATED:20251010T211615Z
LAST-MODIFIED:20251010T211626Z
UID:6252-1763494200-1763501400@www.obgam.at
SUMMARY:VERRECHNUNGSSEMINAR für Kassen-Ordinationen „Wo lasse ich mein Geld liegen?“
DESCRIPTION:DATUM: Dienstag\, 18. November 2025\, 19.30 – 21.30 Uhr\nORT: Die Hausärzte | Ennser Allgemeinmediziner Kathrein-Straße 19\, 4470 Enns \nKOSTEN: für OBGAM-Mitglieder kostenlos\, für alle weiteren Teilnehmer*innen € 45\,- \nANMELDUNG:\nWir bitten um Anmeldung bis zum 11. November 2025 unter anmeldung(at)obgam.at \nZu den DETAILS
URL:https://www.obgam.at/veranstaltung/verrechnungsseminar-fuer-kassen-ordinationen-wo-lasse-ich-mein-geld-liegen/
LOCATION:GHZ Enns\, Kathrein-Straße 19\, Enns\, 4470\, Österreich
END:VEVENT
BEGIN:VEVENT
DTSTART;TZID=Europe/Vienna:20251121T150000
DTEND;TZID=Europe/Vienna:20251121T200000
DTSTAMP:20260419T224418
CREATED:20240311T062348Z
LAST-MODIFIED:20240311T062348Z
UID:4612-1763737200-1763755200@www.obgam.at
SUMMARY:ORTHOPÄDIE-AKADEMIE Modul 8
DESCRIPTION:INFOS und ANMELDUNG
URL:https://www.obgam.at/veranstaltung/orthopaedie-akademie-modul-8/
LOCATION:Gesundheitspark Barmherzige Schwestern Linz\, Herrenstraße 54\, Linz\, Oberösterreich\, 4020\, Österreich
END:VEVENT
BEGIN:VEVENT
DTSTART;VALUE=DATE:20251127
DTEND;VALUE=DATE:20251130
DTSTAMP:20260419T224418
CREATED:20250721T165938Z
LAST-MODIFIED:20250721T165938Z
UID:5737-1764201600-1764460799@www.obgam.at
SUMMARY:55. Kongress für Allgemeinmedizin der STAFAM
DESCRIPTION:ORT: Stadthalle\, Graz \nBesuchen Sie uns in der ÖGAM Lounge \nINFOS und DETAILS
URL:https://www.obgam.at/veranstaltung/55-kongress-fuer-allgemeinmedizin-der-stafam/
LOCATION:Stadthalle Graz Messecenter\, Messeplatz 1\, Graz\, Steiermark\, 8010\, Österreich
END:VEVENT
BEGIN:VEVENT
DTSTART;VALUE=DATE:20251130
DTEND;VALUE=DATE:20251201
DTSTAMP:20260419T224418
CREATED:20251010T211738Z
LAST-MODIFIED:20251010T211800Z
UID:6256-1764460800-1764547199@www.obgam.at
SUMMARY:ÖGAM / JAMÖ connect – gemeinsam Wachsen – „Raum für Austausch\, Ideen und Engagement – zuhören\, mitgestalten“
DESCRIPTION:DATUM: Sonntag\, 30. November 2025 (direkt im Anschluss zum STAFAM-Kongress)\nORT: Räumlichkeiten beim STAFAM-Kongress\, genauer Raum tbd \nFür interessierte ÖGAM- Mitglieder und JAMÖ-Mitglieder\, die Ideen einbringen und “die ÖGAM” besser kennenlernen wollen \nANMELDUNG: Anmeldungen bitte bis 16.11.2025 an office(at)oegam.at \nZu den DETAILS
URL:https://www.obgam.at/veranstaltung/oegam-jamoe-connect-gemeinsam-wachsen-raum-fuer-austausch-ideen-und-engagement-zuhoeren-mitgestalten/
END:VEVENT
END:VCALENDAR